Package: NanoMethViz Version: 3.2.0 Command: /home/biocbuild/R/R/bin/R CMD check --install=check:NanoMethViz.install-out.txt --library=/home/biocbuild/R/R/site-library --no-vignettes --timings NanoMethViz_3.2.0.tar.gz StartedAt: 2025-01-31 08:35:12 -0000 (Fri, 31 Jan 2025) EndedAt: 2025-01-31 08:47:06 -0000 (Fri, 31 Jan 2025) EllapsedTime: 714.4 seconds RetCode: 0 Status: OK CheckDir: NanoMethViz.Rcheck Warnings: 0