Package: NanoMethViz Version: 3.2.0 Command: /home/biocbuild/R/R/bin/R CMD INSTALL NanoMethViz StartedAt: 2025-01-30 20:59:27 -0000 (Thu, 30 Jan 2025) EndedAt: 2025-01-30 21:01:02 -0000 (Thu, 30 Jan 2025) EllapsedTime: 94.9 seconds RetCode: 0 Status: OK