Package: NanoStringNCTools Version: 1.14.0 Command: rm -rf NanoStringNCTools.buildbin-libdir && mkdir NanoStringNCTools.buildbin-libdir && /Users/biocbuild/BBS/utils/build-universal.sh NanoStringNCTools_1.14.0.tar.gz /Library/Frameworks/R.framework/Resources/bin/R NanoStringNCTools.buildbin-libdir StartedAt: 2025-02-05 16:54:52 -0500 (Wed, 05 Feb 2025) EndedAt: 2025-02-05 16:55:13 -0500 (Wed, 05 Feb 2025) EllapsedTime: 21.4 seconds RetCode: 0 Status: OK PackageFile: NanoStringNCTools_1.14.0.tgz PackageFileSize: 944 KiB