Package: NanoStringNCTools Version: 1.14.0 Command: rm -rf NanoStringNCTools.buildbin-libdir && mkdir NanoStringNCTools.buildbin-libdir && F:\biocbuild\bbs-3.20-bioc\R\bin\R.exe CMD INSTALL --build --library=NanoStringNCTools.buildbin-libdir NanoStringNCTools_1.14.0.tar.gz StartedAt: 2025-01-31 09:09:38 -0500 (Fri, 31 Jan 2025) EndedAt: 2025-01-31 09:12:08 -0500 (Fri, 31 Jan 2025) EllapsedTime: 149.5 seconds RetCode: 0 Status: OK PackageFile: NanoStringNCTools_1.14.0.zip PackageFileSize: 891 KiB