Package: NanoStringNCTools Version: 1.14.0 Command: /home/biocbuild/R/R/bin/R CMD build --keep-empty-dirs --no-resave-data NanoStringNCTools StartedAt: 2025-01-31 01:17:50 -0000 (Fri, 31 Jan 2025) EndedAt: 2025-01-31 01:18:26 -0000 (Fri, 31 Jan 2025) EllapsedTime: 36.0 seconds RetCode: 0 Status: OK PackageFile: NanoStringNCTools_1.14.0.tar.gz PackageFileSize: 315.8 KiB