Package: Nebulosa Version: 1.16.0 Command: /Library/Frameworks/R.framework/Resources/bin/R CMD build --keep-empty-dirs --no-resave-data Nebulosa StartedAt: 2025-01-31 04:28:57 -0500 (Fri, 31 Jan 2025) EndedAt: 2025-01-31 04:32:52 -0500 (Fri, 31 Jan 2025) EllapsedTime: 234.8 seconds RetCode: 0 Status: OK PackageFile: Nebulosa_1.16.0.tar.gz PackageFileSize: 3.754 MiB