Package: Nebulosa Version: 1.16.0 Command: /Library/Frameworks/R.framework/Resources/bin/R CMD check --install=check:Nebulosa.install-out.txt --library=/Library/Frameworks/R.framework/Resources/library --no-vignettes --timings Nebulosa_1.16.0.tar.gz StartedAt: 2025-02-01 03:07:27 -0500 (Sat, 01 Feb 2025) EndedAt: 2025-02-01 03:11:11 -0500 (Sat, 01 Feb 2025) EllapsedTime: 224.7 seconds RetCode: 0 Status: OK CheckDir: Nebulosa.Rcheck Warnings: 0