Package: Nebulosa Version: 1.16.0 Command: /Library/Frameworks/R.framework/Resources/bin/R CMD build --keep-empty-dirs --no-resave-data Nebulosa StartedAt: 2025-01-30 21:22:10 -0500 (Thu, 30 Jan 2025) EndedAt: 2025-01-30 21:29:56 -0500 (Thu, 30 Jan 2025) EllapsedTime: 466.0 seconds RetCode: 0 Status: OK PackageFile: Nebulosa_1.16.0.tar.gz PackageFileSize: 3.43 MiB