Package: Nebulosa Version: 1.16.0 Command: /home/biocbuild/bbs-3.20-bioc/R/bin/R CMD INSTALL Nebulosa StartedAt: 2025-01-30 15:29:53 -0500 (Thu, 30 Jan 2025) EndedAt: 2025-01-30 15:30:22 -0500 (Thu, 30 Jan 2025) EllapsedTime: 29.3 seconds RetCode: 0 Status: OK