Package: Nebulosa Version: 1.16.0 Command: chmod a+r Nebulosa -R && F:\biocbuild\bbs-3.20-bioc\R\bin\R.exe CMD build --keep-empty-dirs --no-resave-data Nebulosa StartedAt: 2025-01-30 20:33:14 -0500 (Thu, 30 Jan 2025) EndedAt: 2025-01-30 20:37:20 -0500 (Thu, 30 Jan 2025) EllapsedTime: 245.7 seconds RetCode: 0 Status: OK PackageFile: Nebulosa_1.16.0.tar.gz PackageFileSize: 2.345 MiB