Package: Nebulosa Version: 1.16.0 Command: /home/biocbuild/R/R/bin/R CMD INSTALL Nebulosa StartedAt: 2025-01-30 20:34:17 -0000 (Thu, 30 Jan 2025) EndedAt: 2025-01-30 20:34:51 -0000 (Thu, 30 Jan 2025) EllapsedTime: 33.3 seconds RetCode: 0 Status: OK