Package: NetActivity Version: 1.8.0 Command: /Library/Frameworks/R.framework/Resources/bin/R CMD INSTALL NetActivity StartedAt: 2025-02-03 15:46:30 -0500 (Mon, 03 Feb 2025) EndedAt: 2025-02-03 15:46:58 -0500 (Mon, 03 Feb 2025) EllapsedTime: 28.1 seconds RetCode: 0 Status: OK