Package: NetActivity Version: 1.8.0 Command: rm -rf NetActivity.buildbin-libdir && mkdir NetActivity.buildbin-libdir && /Users/biocbuild/BBS/utils/build-universal.sh NetActivity_1.8.0.tar.gz /Library/Frameworks/R.framework/Resources/bin/R NetActivity.buildbin-libdir StartedAt: 2025-02-04 13:37:39 -0500 (Tue, 04 Feb 2025) EndedAt: 2025-02-04 13:38:59 -0500 (Tue, 04 Feb 2025) EllapsedTime: 80.4 seconds RetCode: 0 Status: OK PackageFile: NetActivity_1.8.0.tgz PackageFileSize: 446.6 KiB