Package: NetActivity Version: 1.8.0 Command: /Library/Frameworks/R.framework/Resources/bin/R CMD build --keep-empty-dirs --no-resave-data NetActivity StartedAt: 2025-02-03 20:49:43 -0500 (Mon, 03 Feb 2025) EndedAt: 2025-02-03 20:51:54 -0500 (Mon, 03 Feb 2025) EllapsedTime: 131.1 seconds RetCode: 0 Status: OK PackageFile: NetActivity_1.8.0.tar.gz PackageFileSize: 437.6 KiB