Package: NetActivity Version: 1.8.0 Command: /home/biocbuild/bbs-3.20-bioc/R/bin/R CMD build --keep-empty-dirs --no-resave-data --md5 NetActivity StartedAt: 2025-02-03 18:28:40 -0500 (Mon, 03 Feb 2025) EndedAt: 2025-02-03 18:29:39 -0500 (Mon, 03 Feb 2025) EllapsedTime: 59.0 seconds RetCode: 0 Status: OK PackageFile: NetActivity_1.8.0.tar.gz PackageFileSize: 431 KiB