Package: NetActivity Version: 1.8.0 Command: rm -rf NetActivity.buildbin-libdir && mkdir NetActivity.buildbin-libdir && F:\biocbuild\bbs-3.20-bioc\R\bin\R.exe CMD INSTALL --build --library=NetActivity.buildbin-libdir NetActivity_1.8.0.tar.gz StartedAt: 2025-02-04 09:03:54 -0500 (Tue, 04 Feb 2025) EndedAt: 2025-02-04 09:04:23 -0500 (Tue, 04 Feb 2025) EllapsedTime: 28.6 seconds RetCode: 0 Status: OK PackageFile: NetActivity_1.8.0.zip PackageFileSize: 359.3 KiB