Package: NetActivity Version: 1.8.0 Command: chmod a+r NetActivity -R && F:\biocbuild\bbs-3.20-bioc\R\bin\R.exe CMD build --keep-empty-dirs --no-resave-data NetActivity StartedAt: 2025-02-03 20:47:58 -0500 (Mon, 03 Feb 2025) EndedAt: 2025-02-03 20:49:14 -0500 (Mon, 03 Feb 2025) EllapsedTime: 76.0 seconds RetCode: 0 Status: OK PackageFile: NetActivity_1.8.0.tar.gz PackageFileSize: 345.1 KiB