Package: NetActivity Version: 1.8.0 Command: /home/biocbuild/R/R/bin/R CMD build --keep-empty-dirs --no-resave-data NetActivity StartedAt: 2025-02-04 01:23:23 -0000 (Tue, 04 Feb 2025) EndedAt: 2025-02-04 01:24:39 -0000 (Tue, 04 Feb 2025) EllapsedTime: 76.0 seconds RetCode: 0 Status: OK PackageFile: NetActivity_1.8.0.tar.gz PackageFileSize: 420.4 KiB