Package: NetPathMiner Version: 1.42.0 Command: /Library/Frameworks/R.framework/Resources/bin/R CMD build --keep-empty-dirs --no-resave-data NetPathMiner StartedAt: 2025-02-10 20:52:36 -0500 (Mon, 10 Feb 2025) EndedAt: 2025-02-10 20:53:43 -0500 (Mon, 10 Feb 2025) EllapsedTime: 66.7 seconds RetCode: 0 Status: OK PackageFile: NetPathMiner_1.42.0.tar.gz PackageFileSize: 2.486 MiB