Package: NetPathMiner Version: 1.42.0 Command: /home/biocbuild/R/R/bin/R CMD check --install=check:NetPathMiner.install-out.txt --library=/home/biocbuild/R/R/site-library --no-vignettes --timings NetPathMiner_1.42.0.tar.gz StartedAt: 2025-02-11 08:40:04 -0000 (Tue, 11 Feb 2025) EndedAt: 2025-02-11 08:41:12 -0000 (Tue, 11 Feb 2025) EllapsedTime: 68.1 seconds RetCode: 0 Status: OK CheckDir: NetPathMiner.Rcheck Warnings: 0