Package: NewWave Version: 1.16.0 Command: /Library/Frameworks/R.framework/Resources/bin/R CMD build --keep-empty-dirs --no-resave-data NewWave StartedAt: 2025-02-11 04:42:22 -0500 (Tue, 11 Feb 2025) EndedAt: 2025-02-11 04:44:52 -0500 (Tue, 11 Feb 2025) EllapsedTime: 149.7 seconds RetCode: 0 Status: OK PackageFile: NewWave_1.16.0.tar.gz PackageFileSize: 98.9 KiB