Package: NewWave Version: 1.16.0 Command: /Library/Frameworks/R.framework/Resources/bin/R CMD INSTALL NewWave StartedAt: 2025-02-10 17:59:09 -0500 (Mon, 10 Feb 2025) EndedAt: 2025-02-10 17:59:39 -0500 (Mon, 10 Feb 2025) EllapsedTime: 30.4 seconds RetCode: 0 Status: OK