Package: NewWave Version: 1.16.0 Command: rm -rf NewWave.buildbin-libdir && mkdir NewWave.buildbin-libdir && /Users/biocbuild/BBS/utils/build-universal.sh NewWave_1.16.0.tar.gz /Library/Frameworks/R.framework/Resources/bin/R NewWave.buildbin-libdir StartedAt: 2025-02-04 13:38:16 -0500 (Tue, 04 Feb 2025) EndedAt: 2025-02-04 13:39:43 -0500 (Tue, 04 Feb 2025) EllapsedTime: 86.6 seconds RetCode: 0 Status: OK PackageFile: NewWave_1.16.0.tgz PackageFileSize: 418 KiB