Package: NewWave Version: 1.16.0 Command: /Library/Frameworks/R.framework/Resources/bin/R CMD build --keep-empty-dirs --no-resave-data NewWave StartedAt: 2025-02-03 20:52:08 -0500 (Mon, 03 Feb 2025) EndedAt: 2025-02-03 20:57:58 -0500 (Mon, 03 Feb 2025) EllapsedTime: 350.4 seconds RetCode: 0 Status: OK PackageFile: NewWave_1.16.0.tar.gz PackageFileSize: 93.16 KiB