Package: NewWave Version: 1.16.0 Command: /home/biocbuild/bbs-3.20-bioc/R/bin/R CMD INSTALL NewWave StartedAt: 2025-02-03 16:00:45 -0500 (Mon, 03 Feb 2025) EndedAt: 2025-02-03 16:01:12 -0500 (Mon, 03 Feb 2025) EllapsedTime: 27.2 seconds RetCode: 0 Status: OK