Package: NewWave Version: 1.16.0 Command: rm -rf NewWave.buildbin-libdir && mkdir NewWave.buildbin-libdir && F:\biocbuild\bbs-3.20-bioc\R\bin\R.exe CMD INSTALL --build --library=NewWave.buildbin-libdir NewWave_1.16.0.tar.gz StartedAt: 2025-02-04 09:04:17 -0500 (Tue, 04 Feb 2025) EndedAt: 2025-02-04 09:05:10 -0500 (Tue, 04 Feb 2025) EllapsedTime: 52.9 seconds RetCode: 0 Status: OK PackageFile: NewWave_1.16.0.zip PackageFileSize: 381.6 KiB