Package: NewWave Version: 1.16.0 Command: chmod a+r NewWave -R && F:\biocbuild\bbs-3.20-bioc\R\bin\R.exe CMD build --keep-empty-dirs --no-resave-data NewWave StartedAt: 2025-02-10 20:43:35 -0500 (Mon, 10 Feb 2025) EndedAt: 2025-02-10 20:47:00 -0500 (Mon, 10 Feb 2025) EllapsedTime: 204.2 seconds RetCode: 0 Status: OK PackageFile: NewWave_1.16.0.tar.gz PackageFileSize: 50.01 KiB