Package: NewWave Version: 1.16.0 Command: /home/biocbuild/R/R/bin/R CMD build --keep-empty-dirs --no-resave-data NewWave StartedAt: 2025-02-04 01:25:27 -0000 (Tue, 04 Feb 2025) EndedAt: 2025-02-04 01:29:02 -0000 (Tue, 04 Feb 2025) EllapsedTime: 214.4 seconds RetCode: 0 Status: OK PackageFile: NewWave_1.16.0.tar.gz PackageFileSize: 56.91 KiB