Package: NoRCE Version: 1.18.0 Command: /Library/Frameworks/R.framework/Resources/bin/R CMD check --install=check:NoRCE.install-out.txt --library=/Library/Frameworks/R.framework/Resources/library --no-vignettes --timings NoRCE_1.18.0.tar.gz StartedAt: 2025-02-05 04:02:34 -0500 (Wed, 05 Feb 2025) EndedAt: 2025-02-05 04:07:59 -0500 (Wed, 05 Feb 2025) EllapsedTime: 325.5 seconds RetCode: 0 Status: OK CheckDir: NoRCE.Rcheck Warnings: 0