Package: NoRCE Version: 1.18.0 Command: /home/biocbuild/bbs-3.20-bioc/R/bin/R CMD build --keep-empty-dirs --no-resave-data --md5 NoRCE StartedAt: 2025-02-03 18:31:31 -0500 (Mon, 03 Feb 2025) EndedAt: 2025-02-03 18:32:37 -0500 (Mon, 03 Feb 2025) EllapsedTime: 66.2 seconds RetCode: 0 Status: OK PackageFile: NoRCE_1.18.0.tar.gz PackageFileSize: 2.027 MiB