Package: NoRCE Version: 1.18.0 Command: chmod a+r NoRCE -R && F:\biocbuild\bbs-3.20-bioc\R\bin\R.exe CMD build --keep-empty-dirs --no-resave-data NoRCE StartedAt: 2025-01-30 20:35:39 -0500 (Thu, 30 Jan 2025) EndedAt: 2025-01-30 20:36:37 -0500 (Thu, 30 Jan 2025) EllapsedTime: 57.8 seconds RetCode: 0 Status: OK PackageFile: NoRCE_1.18.0.tar.gz PackageFileSize: 2.025 MiB