Package: NoRCE Version: 1.18.0 Command: /home/biocbuild/R/R/bin/R CMD build --keep-empty-dirs --no-resave-data NoRCE StartedAt: 2025-02-04 01:26:41 -0000 (Tue, 04 Feb 2025) EndedAt: 2025-02-04 01:27:56 -0000 (Tue, 04 Feb 2025) EllapsedTime: 74.2 seconds RetCode: 0 Status: OK PackageFile: NoRCE_1.18.0.tar.gz PackageFileSize: 2.025 MiB