Package: NormalyzerDE Version: 1.24.0 Command: /Library/Frameworks/R.framework/Resources/bin/R CMD check --install=check:NormalyzerDE.install-out.txt --library=/Library/Frameworks/R.framework/Resources/library --no-vignettes --timings NormalyzerDE_1.24.0.tar.gz StartedAt: 2025-02-05 04:03:22 -0500 (Wed, 05 Feb 2025) EndedAt: 2025-02-05 04:07:18 -0500 (Wed, 05 Feb 2025) EllapsedTime: 236.6 seconds RetCode: 0 Status: WARNINGS CheckDir: NormalyzerDE.Rcheck Warnings: 1