Package: NormalyzerDE Version: 1.24.0 Command: /Library/Frameworks/R.framework/Resources/bin/R CMD check --install=check:NormalyzerDE.install-out.txt --library=/Library/Frameworks/R.framework/Resources/library --no-vignettes --timings NormalyzerDE_1.24.0.tar.gz StartedAt: 2025-02-04 07:18:45 -0500 (Tue, 04 Feb 2025) EndedAt: 2025-02-04 07:26:39 -0500 (Tue, 04 Feb 2025) EllapsedTime: 474.3 seconds RetCode: 0 Status: WARNINGS CheckDir: NormalyzerDE.Rcheck Warnings: 1