Package: NormalyzerDE Version: 1.24.0 Command: /home/biocbuild/R/R/bin/R CMD INSTALL NormalyzerDE StartedAt: 2025-02-03 21:05:16 -0000 (Mon, 03 Feb 2025) EndedAt: 2025-02-03 21:05:44 -0000 (Mon, 03 Feb 2025) EllapsedTime: 28.2 seconds RetCode: 0 Status: OK