Package: NormqPCR Version: 1.52.0 Command: /Library/Frameworks/R.framework/Resources/bin/R CMD build --keep-empty-dirs --no-resave-data NormqPCR StartedAt: 2025-02-11 04:46:10 -0500 (Tue, 11 Feb 2025) EndedAt: 2025-02-11 04:46:30 -0500 (Tue, 11 Feb 2025) EllapsedTime: 20.6 seconds RetCode: 0 Status: OK PackageFile: NormqPCR_1.52.0.tar.gz PackageFileSize: 417.7 KiB