Package: NormqPCR Version: 1.52.0 Command: /Library/Frameworks/R.framework/Resources/bin/R CMD INSTALL NormqPCR StartedAt: 2025-02-10 17:01:02 -0500 (Mon, 10 Feb 2025) EndedAt: 2025-02-10 17:01:11 -0500 (Mon, 10 Feb 2025) EllapsedTime: 9.4 seconds RetCode: 0 Status: OK