Package: NormqPCR Version: 1.52.0 Command: rm -rf NormqPCR.buildbin-libdir && mkdir NormqPCR.buildbin-libdir && /Users/biocbuild/BBS/utils/build-universal.sh NormqPCR_1.52.0.tar.gz /Library/Frameworks/R.framework/Resources/bin/R NormqPCR.buildbin-libdir StartedAt: 2025-02-04 13:39:03 -0500 (Tue, 04 Feb 2025) EndedAt: 2025-02-04 13:39:31 -0500 (Tue, 04 Feb 2025) EllapsedTime: 27.9 seconds RetCode: 0 Status: OK PackageFile: NormqPCR_1.52.0.tgz PackageFileSize: 499 KiB