Package: NormqPCR Version: 1.52.0 Command: /Library/Frameworks/R.framework/Resources/bin/R CMD build --keep-empty-dirs --no-resave-data NormqPCR StartedAt: 2025-02-03 20:55:36 -0500 (Mon, 03 Feb 2025) EndedAt: 2025-02-03 20:56:29 -0500 (Mon, 03 Feb 2025) EllapsedTime: 53.1 seconds RetCode: 0 Status: OK PackageFile: NormqPCR_1.52.0.tar.gz PackageFileSize: 417.8 KiB