Package: NormqPCR Version: 1.52.0 Command: /Library/Frameworks/R.framework/Resources/bin/R CMD check --install=check:NormqPCR.install-out.txt --library=/Library/Frameworks/R.framework/Resources/library --no-vignettes --timings NormqPCR_1.52.0.tar.gz StartedAt: 2025-02-04 07:18:53 -0500 (Tue, 04 Feb 2025) EndedAt: 2025-02-04 07:22:13 -0500 (Tue, 04 Feb 2025) EllapsedTime: 200.1 seconds RetCode: 0 Status: OK CheckDir: NormqPCR.Rcheck Warnings: 0