Package: NormqPCR Version: 1.52.0 Command: /home/biocbuild/R/R/bin/R CMD build --keep-empty-dirs --no-resave-data NormqPCR StartedAt: 2025-02-11 01:13:35 -0000 (Tue, 11 Feb 2025) EndedAt: 2025-02-11 01:13:52 -0000 (Tue, 11 Feb 2025) EllapsedTime: 17.0 seconds RetCode: 0 Status: OK PackageFile: NormqPCR_1.52.0.tar.gz PackageFileSize: 407.2 KiB