Package: OLIN Version: 1.84.0 Command: /Library/Frameworks/R.framework/Resources/bin/R CMD build --keep-empty-dirs --no-resave-data OLIN StartedAt: 2025-01-31 04:44:58 -0500 (Fri, 31 Jan 2025) EndedAt: 2025-01-31 04:45:40 -0500 (Fri, 31 Jan 2025) EllapsedTime: 42.2 seconds RetCode: 0 Status: OK PackageFile: OLIN_1.84.0.tar.gz PackageFileSize: 2.552 MiB