Package: OLIN Version: 1.84.0 Command: /Library/Frameworks/R.framework/Resources/bin/R CMD build --keep-empty-dirs --no-resave-data OLIN StartedAt: 2025-01-30 21:30:30 -0500 (Thu, 30 Jan 2025) EndedAt: 2025-01-30 21:31:52 -0500 (Thu, 30 Jan 2025) EllapsedTime: 81.7 seconds RetCode: 0 Status: OK PackageFile: OLIN_1.84.0.tar.gz PackageFileSize: 2.555 MiB