Package: OLIN Version: 1.84.0 Command: /Library/Frameworks/R.framework/Resources/bin/R CMD check --install=check:OLIN.install-out.txt --library=/Library/Frameworks/R.framework/Resources/library --no-vignettes --timings OLIN_1.84.0.tar.gz StartedAt: 2025-01-31 07:28:20 -0500 (Fri, 31 Jan 2025) EndedAt: 2025-01-31 07:30:12 -0500 (Fri, 31 Jan 2025) EllapsedTime: 111.7 seconds RetCode: 0 Status: OK CheckDir: OLIN.Rcheck Warnings: 0