Package: OLIN Version: 1.84.0 Command: /home/biocbuild/bbs-3.20-bioc/R/bin/R CMD check --install=check:OLIN.install-out.txt --library=/home/biocbuild/bbs-3.20-bioc/R/site-library --timings OLIN_1.84.0.tar.gz StartedAt: 2025-02-04 00:48:32 -0500 (Tue, 04 Feb 2025) EndedAt: 2025-02-04 00:49:44 -0500 (Tue, 04 Feb 2025) EllapsedTime: 72.1 seconds RetCode: 0 Status: OK CheckDir: OLIN.Rcheck Warnings: 0