Package: OLIN Version: 1.84.0 Command: F:\biocbuild\bbs-3.20-bioc\R\bin\R.exe CMD check --no-multiarch --install=check:OLIN.install-out.txt --library=F:\biocbuild\bbs-3.20-bioc\R\library --no-vignettes --timings OLIN_1.84.0.tar.gz StartedAt: 2025-01-31 04:40:54 -0500 (Fri, 31 Jan 2025) EndedAt: 2025-01-31 04:42:02 -0500 (Fri, 31 Jan 2025) EllapsedTime: 67.8 seconds RetCode: 0 Status: OK CheckDir: OLIN.Rcheck Warnings: 0