Package: OLIN Version: 1.84.0 Command: /home/biocbuild/R/R/bin/R CMD build --keep-empty-dirs --no-resave-data OLIN StartedAt: 2025-01-31 01:26:43 -0000 (Fri, 31 Jan 2025) EndedAt: 2025-01-31 01:27:30 -0000 (Fri, 31 Jan 2025) EllapsedTime: 47.1 seconds RetCode: 0 Status: OK PackageFile: OLIN_1.84.0.tar.gz PackageFileSize: 2.547 MiB