Package: OLIN Version: 1.84.0 Command: /home/biocbuild/R/R/bin/R CMD INSTALL OLIN StartedAt: 2025-01-30 20:10:52 -0000 (Thu, 30 Jan 2025) EndedAt: 2025-01-30 20:11:12 -0000 (Thu, 30 Jan 2025) EllapsedTime: 20.3 seconds RetCode: 0 Status: OK