Package: OLINgui Version: 1.80.0 Command: /Library/Frameworks/R.framework/Resources/bin/R CMD build --keep-empty-dirs --no-resave-data OLINgui StartedAt: 2025-01-31 04:45:11 -0500 (Fri, 31 Jan 2025) EndedAt: 2025-01-31 04:45:26 -0500 (Fri, 31 Jan 2025) EllapsedTime: 14.9 seconds RetCode: 0 Status: OK PackageFile: OLINgui_1.80.0.tar.gz PackageFileSize: 374.4 KiB