Package: OLINgui Version: 1.80.0 Command: rm -rf OLINgui.buildbin-libdir && mkdir OLINgui.buildbin-libdir && /Users/biocbuild/BBS/utils/build-universal.sh OLINgui_1.80.0.tar.gz /Library/Frameworks/R.framework/Resources/bin/R OLINgui.buildbin-libdir StartedAt: 2025-02-04 13:40:06 -0500 (Tue, 04 Feb 2025) EndedAt: 2025-02-04 13:40:26 -0500 (Tue, 04 Feb 2025) EllapsedTime: 20.0 seconds RetCode: 0 Status: OK PackageFile: OLINgui_1.80.0.tgz PackageFileSize: 363.8 KiB